Workbook

Sheet Findings by Cateogy
B1: Actual | C1: Slider Fill | D1: Slider Size
A2: Major | B2: ='Data Sheet'!B12 -> 8 | C2: =B2 -> 8 | D2: 0.1
A3: Minor | B3: ='Data Sheet'!B13 -> 10 | C3: =B3 -> 10 | D3: 0.1
A4: Observations | B4: ='Data Sheet'!B14 -> 20 | C4: =B4 -> 20 | D4: 0.1
A5: Good Practices | B5: ='Data Sheet'!B15 -> 3 | C5: =B5 -> 3 | D5: 0.1

Sheet Data Sheet
A1: Planificación de auditorías | D1: Planificación de auditorías | N1: Open Vs. Closed Findings Chart
A2: Plan de Auditoría | B2: 14 | D2: Auditoria interna | E2: 12 | N2: Closed % | O2: =B8/B7 -> 0.54285714
A3: Auditoría realizada | B3: 6 | D3: Auditoria externa | E3: 2 | N3: Open % | O3: =B9/B7 -> 0.45714286
A4: Auditoria Pendiente | B4: =B2-B3 -> 8
N5: Close% | O5: =O2 -> 0.54285714
A6: Hallazgos Abiertos Vs. Cerrados | D6: Área | E6: Total Hallazgos | F6: Cerrados | G6: Abiertos | N6: Total | O6: =100%-O5 -> 0.45714286
A7: Hallazgos Totales | B7: 35 | D7: HSE | E7: 3 | F7: =E7-1 -> 2 | G7: =E7-F7 -> 1
A8: Hallazgos Cerrados | B8: 19 | D8: Operations | E8: 8 | F8: 5 | G8: =E8-F8 -> 3 | N8: Open % | O8: =O3 -> 0.45714286
A9: Hallazgos Abiertos | B9: =B7-B8 -> 16 | D9: Logistics | E9: 7 | F9: 3 | G9: =E9-F9 -> 4 | N9: total | O9: =100%-O8 -> 0.54285714
D10: Procurement | E10: 5 | F10: 4 | G10: =E10-F10 -> 1
A11: Hallazgos por Categoria | D11: HR | E11: 4 | F11: 3 | G11: =E11-F11 -> 1 | N11: Department | O11: Open%
A12: Mayor | B12: 8 | D12: Finance | E12: 8 | F12: 6 | G12: =E12-F12 -> 2 | N12: HSE | O12: =G7/E7 -> 0.33333333
A13: Menor | B13: 10 | N13: Operations | O13: =G8/E8 -> 0.375
A14: Observaciones | B14: 20 | N14: Logistics | O14: =G9/E9 -> 0.57142857
A15: Buenas Practicas | B15: 3 | N15: Procurement | O15: =G10/E10 -> 0.2
N16: HR | O16: =G11/E11 -> 0.25
A17: Note: Esto es solo datos de muestra | N17: Finance | O17: =G12/E12 -> 0.25

Sheet Dashboard
A1: Auditoría Dashboard
A2: Resumen de Auditoría | B2: ='Data Sheet'!B2 -> 14 | C2: ='Data Sheet'!B3 -> 6 | D2: ='Data Sheet'!B4 -> 8
B3: ='Data Sheet'!A2 -> Plan de Auditoría | C3: ='Data Sheet'!A3 -> Auditoría realizada | D3: ='Data Sheet'!A4 -> Auditoria Pendiente
